BEGIN:VCALENDAR
VERSION:2.0
PRODID:-//Fairfield Medical Center - ECPv6.15.3//NONSGML v1.0//EN
CALSCALE:GREGORIAN
METHOD:PUBLISH
X-ORIGINAL-URL:https://www.fmchealth.org
X-WR-CALDESC:Events for Fairfield Medical Center
REFRESH-INTERVAL;VALUE=DURATION:PT1H
X-Robots-Tag:noindex
X-PUBLISHED-TTL:PT1H
BEGIN:VTIMEZONE
TZID:America/New_York
BEGIN:DAYLIGHT
TZOFFSETFROM:-0500
TZOFFSETTO:-0400
TZNAME:EDT
DTSTART:20290311T070000
END:DAYLIGHT
BEGIN:STANDARD
TZOFFSETFROM:-0400
TZOFFSETTO:-0500
TZNAME:EST
DTSTART:20291104T060000
END:STANDARD
BEGIN:DAYLIGHT
TZOFFSETFROM:-0500
TZOFFSETTO:-0400
TZNAME:EDT
DTSTART:20300310T070000
END:DAYLIGHT
BEGIN:STANDARD
TZOFFSETFROM:-0400
TZOFFSETTO:-0500
TZNAME:EST
DTSTART:20301103T060000
END:STANDARD
END:VTIMEZONE
BEGIN:VEVENT
DTSTART;TZID=America/New_York:20290625T180000
DTEND;TZID=America/New_York:20290625T190000
DTSTAMP:20260420T232530
CREATED:20250109T205125Z
LAST-MODIFIED:20251218T193632Z
UID:10000429-1877104800-1877108400@www.fmchealth.org
SUMMARY:Diabetes Support Group
DESCRIPTION:Diabetes Support Group. Free to attend. This group is open to community members and their families who are affected by diabetes. The group meets on the 4th Monday of each month from 6-7 p.m. in the conference rooms at River Valley Campus (Columbus Street entrance). A wide variety of topics on diabetes are covered. See the schedule on the reverse side for details or call 740-687-8492 for more information.
URL:https://www.fmchealth.org/event/diabetes-support-group/2029-06-25/
LOCATION:River Valley Campus\, 2384 N. Memorial Dr.\, Lancaster\, OH\, 43130\, United States
CATEGORIES:Diabetes,Support Groups
ATTACH;FMTTYPE=image/jpeg:https://www.fmchealth.org/app/uploads/2025/01/diabetes_girlwithnurse-scaled.jpg
END:VEVENT
BEGIN:VEVENT
DTSTART;TZID=America/New_York:20290718T164500
DTEND;TZID=America/New_York:20290718T174500
DTSTAMP:20260420T232530
CREATED:20260408T175637Z
LAST-MODIFIED:20260408T175637Z
UID:10000638-1879087500-1879091100@www.fmchealth.org
SUMMARY:Neuro Support Group
DESCRIPTION:The Neuro Support Group regularly hosts guest speakers to address topics of interest\, and also provides activities to promote group bonding and facilitate acceptance and healing. Please join us the 3rd Wednesday of each month\, unless a national holiday falls on that date.
URL:https://www.fmchealth.org/event/neuro-support-group/2029-07-18/
LOCATION:River Valley Campus\, 2384 N. Memorial Dr.\, Lancaster\, OH\, 43130\, United States
ORGANIZER;CN="Fairfield Medical Center":MAILTO:rishaw@fmchealth.org
END:VEVENT
BEGIN:VEVENT
DTSTART;TZID=America/New_York:20290723T180000
DTEND;TZID=America/New_York:20290723T190000
DTSTAMP:20260420T232530
CREATED:20250109T205125Z
LAST-MODIFIED:20251218T193632Z
UID:10000430-1879524000-1879527600@www.fmchealth.org
SUMMARY:Diabetes Support Group
DESCRIPTION:Diabetes Support Group. Free to attend. This group is open to community members and their families who are affected by diabetes. The group meets on the 4th Monday of each month from 6-7 p.m. in the conference rooms at River Valley Campus (Columbus Street entrance). A wide variety of topics on diabetes are covered. See the schedule on the reverse side for details or call 740-687-8492 for more information.
URL:https://www.fmchealth.org/event/diabetes-support-group/2029-07-23/
LOCATION:River Valley Campus\, 2384 N. Memorial Dr.\, Lancaster\, OH\, 43130\, United States
CATEGORIES:Diabetes,Support Groups
ATTACH;FMTTYPE=image/jpeg:https://www.fmchealth.org/app/uploads/2025/01/diabetes_girlwithnurse-scaled.jpg
END:VEVENT
BEGIN:VEVENT
DTSTART;TZID=America/New_York:20290815T164500
DTEND;TZID=America/New_York:20290815T174500
DTSTAMP:20260420T232530
CREATED:20260408T175637Z
LAST-MODIFIED:20260408T175637Z
UID:10000639-1881506700-1881510300@www.fmchealth.org
SUMMARY:Neuro Support Group
DESCRIPTION:The Neuro Support Group regularly hosts guest speakers to address topics of interest\, and also provides activities to promote group bonding and facilitate acceptance and healing. Please join us the 3rd Wednesday of each month\, unless a national holiday falls on that date.
URL:https://www.fmchealth.org/event/neuro-support-group/2029-08-15/
LOCATION:River Valley Campus\, 2384 N. Memorial Dr.\, Lancaster\, OH\, 43130\, United States
ORGANIZER;CN="Fairfield Medical Center":MAILTO:rishaw@fmchealth.org
END:VEVENT
BEGIN:VEVENT
DTSTART;TZID=America/New_York:20290827T180000
DTEND;TZID=America/New_York:20290827T190000
DTSTAMP:20260420T232530
CREATED:20250109T205125Z
LAST-MODIFIED:20251218T193632Z
UID:10000431-1882548000-1882551600@www.fmchealth.org
SUMMARY:Diabetes Support Group
DESCRIPTION:Diabetes Support Group. Free to attend. This group is open to community members and their families who are affected by diabetes. The group meets on the 4th Monday of each month from 6-7 p.m. in the conference rooms at River Valley Campus (Columbus Street entrance). A wide variety of topics on diabetes are covered. See the schedule on the reverse side for details or call 740-687-8492 for more information.
URL:https://www.fmchealth.org/event/diabetes-support-group/2029-08-27/
LOCATION:River Valley Campus\, 2384 N. Memorial Dr.\, Lancaster\, OH\, 43130\, United States
CATEGORIES:Diabetes,Support Groups
ATTACH;FMTTYPE=image/jpeg:https://www.fmchealth.org/app/uploads/2025/01/diabetes_girlwithnurse-scaled.jpg
END:VEVENT
BEGIN:VEVENT
DTSTART;TZID=America/New_York:20290919T164500
DTEND;TZID=America/New_York:20290919T174500
DTSTAMP:20260420T232530
CREATED:20260408T175637Z
LAST-MODIFIED:20260408T175637Z
UID:10000640-1884530700-1884534300@www.fmchealth.org
SUMMARY:Neuro Support Group
DESCRIPTION:The Neuro Support Group regularly hosts guest speakers to address topics of interest\, and also provides activities to promote group bonding and facilitate acceptance and healing. Please join us the 3rd Wednesday of each month\, unless a national holiday falls on that date.
URL:https://www.fmchealth.org/event/neuro-support-group/2029-09-19/
LOCATION:River Valley Campus\, 2384 N. Memorial Dr.\, Lancaster\, OH\, 43130\, United States
ORGANIZER;CN="Fairfield Medical Center":MAILTO:rishaw@fmchealth.org
END:VEVENT
BEGIN:VEVENT
DTSTART;TZID=America/New_York:20290924T180000
DTEND;TZID=America/New_York:20290924T190000
DTSTAMP:20260420T232530
CREATED:20250109T205125Z
LAST-MODIFIED:20251218T193632Z
UID:10000432-1884967200-1884970800@www.fmchealth.org
SUMMARY:Diabetes Support Group
DESCRIPTION:Diabetes Support Group. Free to attend. This group is open to community members and their families who are affected by diabetes. The group meets on the 4th Monday of each month from 6-7 p.m. in the conference rooms at River Valley Campus (Columbus Street entrance). A wide variety of topics on diabetes are covered. See the schedule on the reverse side for details or call 740-687-8492 for more information.
URL:https://www.fmchealth.org/event/diabetes-support-group/2029-09-24/
LOCATION:River Valley Campus\, 2384 N. Memorial Dr.\, Lancaster\, OH\, 43130\, United States
CATEGORIES:Diabetes,Support Groups
ATTACH;FMTTYPE=image/jpeg:https://www.fmchealth.org/app/uploads/2025/01/diabetes_girlwithnurse-scaled.jpg
END:VEVENT
BEGIN:VEVENT
DTSTART;TZID=America/New_York:20291017T164500
DTEND;TZID=America/New_York:20291017T174500
DTSTAMP:20260420T232530
CREATED:20260408T175637Z
LAST-MODIFIED:20260408T175637Z
UID:10000641-1886949900-1886953500@www.fmchealth.org
SUMMARY:Neuro Support Group
DESCRIPTION:The Neuro Support Group regularly hosts guest speakers to address topics of interest\, and also provides activities to promote group bonding and facilitate acceptance and healing. Please join us the 3rd Wednesday of each month\, unless a national holiday falls on that date.
URL:https://www.fmchealth.org/event/neuro-support-group/2029-10-17/
LOCATION:River Valley Campus\, 2384 N. Memorial Dr.\, Lancaster\, OH\, 43130\, United States
ORGANIZER;CN="Fairfield Medical Center":MAILTO:rishaw@fmchealth.org
END:VEVENT
BEGIN:VEVENT
DTSTART;TZID=America/New_York:20291022T180000
DTEND;TZID=America/New_York:20291022T190000
DTSTAMP:20260420T232530
CREATED:20250109T205125Z
LAST-MODIFIED:20251218T193632Z
UID:10000433-1887386400-1887390000@www.fmchealth.org
SUMMARY:Diabetes Support Group
DESCRIPTION:Diabetes Support Group. Free to attend. This group is open to community members and their families who are affected by diabetes. The group meets on the 4th Monday of each month from 6-7 p.m. in the conference rooms at River Valley Campus (Columbus Street entrance). A wide variety of topics on diabetes are covered. See the schedule on the reverse side for details or call 740-687-8492 for more information.
URL:https://www.fmchealth.org/event/diabetes-support-group/2029-10-22/
LOCATION:River Valley Campus\, 2384 N. Memorial Dr.\, Lancaster\, OH\, 43130\, United States
CATEGORIES:Diabetes,Support Groups
ATTACH;FMTTYPE=image/jpeg:https://www.fmchealth.org/app/uploads/2025/01/diabetes_girlwithnurse-scaled.jpg
END:VEVENT
BEGIN:VEVENT
DTSTART;TZID=America/New_York:20291121T164500
DTEND;TZID=America/New_York:20291121T174500
DTSTAMP:20260420T232530
CREATED:20260408T175637Z
LAST-MODIFIED:20260408T175637Z
UID:10000642-1889973900-1889977500@www.fmchealth.org
SUMMARY:Neuro Support Group
DESCRIPTION:The Neuro Support Group regularly hosts guest speakers to address topics of interest\, and also provides activities to promote group bonding and facilitate acceptance and healing. Please join us the 3rd Wednesday of each month\, unless a national holiday falls on that date.
URL:https://www.fmchealth.org/event/neuro-support-group/2029-11-21/
LOCATION:River Valley Campus\, 2384 N. Memorial Dr.\, Lancaster\, OH\, 43130\, United States
ORGANIZER;CN="Fairfield Medical Center":MAILTO:rishaw@fmchealth.org
END:VEVENT
BEGIN:VEVENT
DTSTART;TZID=America/New_York:20291126T180000
DTEND;TZID=America/New_York:20291126T190000
DTSTAMP:20260420T232530
CREATED:20250109T205125Z
LAST-MODIFIED:20251218T193632Z
UID:10000434-1890410400-1890414000@www.fmchealth.org
SUMMARY:Diabetes Support Group
DESCRIPTION:Diabetes Support Group. Free to attend. This group is open to community members and their families who are affected by diabetes. The group meets on the 4th Monday of each month from 6-7 p.m. in the conference rooms at River Valley Campus (Columbus Street entrance). A wide variety of topics on diabetes are covered. See the schedule on the reverse side for details or call 740-687-8492 for more information.
URL:https://www.fmchealth.org/event/diabetes-support-group/2029-11-26/
LOCATION:River Valley Campus\, 2384 N. Memorial Dr.\, Lancaster\, OH\, 43130\, United States
CATEGORIES:Diabetes,Support Groups
ATTACH;FMTTYPE=image/jpeg:https://www.fmchealth.org/app/uploads/2025/01/diabetes_girlwithnurse-scaled.jpg
END:VEVENT
BEGIN:VEVENT
DTSTART;TZID=America/New_York:20291219T164500
DTEND;TZID=America/New_York:20291219T174500
DTSTAMP:20260420T232530
CREATED:20260408T175637Z
LAST-MODIFIED:20260408T175637Z
UID:10000643-1892393100-1892396700@www.fmchealth.org
SUMMARY:Neuro Support Group
DESCRIPTION:The Neuro Support Group regularly hosts guest speakers to address topics of interest\, and also provides activities to promote group bonding and facilitate acceptance and healing. Please join us the 3rd Wednesday of each month\, unless a national holiday falls on that date.
URL:https://www.fmchealth.org/event/neuro-support-group/2029-12-19/
LOCATION:River Valley Campus\, 2384 N. Memorial Dr.\, Lancaster\, OH\, 43130\, United States
ORGANIZER;CN="Fairfield Medical Center":MAILTO:rishaw@fmchealth.org
END:VEVENT
BEGIN:VEVENT
DTSTART;TZID=America/New_York:20291224T180000
DTEND;TZID=America/New_York:20291224T190000
DTSTAMP:20260420T232530
CREATED:20250109T205125Z
LAST-MODIFIED:20251218T193632Z
UID:10000435-1892829600-1892833200@www.fmchealth.org
SUMMARY:Diabetes Support Group
DESCRIPTION:Diabetes Support Group. Free to attend. This group is open to community members and their families who are affected by diabetes. The group meets on the 4th Monday of each month from 6-7 p.m. in the conference rooms at River Valley Campus (Columbus Street entrance). A wide variety of topics on diabetes are covered. See the schedule on the reverse side for details or call 740-687-8492 for more information.
URL:https://www.fmchealth.org/event/diabetes-support-group/2029-12-24/
LOCATION:River Valley Campus\, 2384 N. Memorial Dr.\, Lancaster\, OH\, 43130\, United States
CATEGORIES:Diabetes,Support Groups
ATTACH;FMTTYPE=image/jpeg:https://www.fmchealth.org/app/uploads/2025/01/diabetes_girlwithnurse-scaled.jpg
END:VEVENT
BEGIN:VEVENT
DTSTART;TZID=America/New_York:20300116T164500
DTEND;TZID=America/New_York:20300116T174500
DTSTAMP:20260420T232530
CREATED:20260408T175637Z
LAST-MODIFIED:20260408T175637Z
UID:10000644-1894812300-1894815900@www.fmchealth.org
SUMMARY:Neuro Support Group
DESCRIPTION:The Neuro Support Group regularly hosts guest speakers to address topics of interest\, and also provides activities to promote group bonding and facilitate acceptance and healing. Please join us the 3rd Wednesday of each month\, unless a national holiday falls on that date.
URL:https://www.fmchealth.org/event/neuro-support-group/2030-01-16/
LOCATION:River Valley Campus\, 2384 N. Memorial Dr.\, Lancaster\, OH\, 43130\, United States
ORGANIZER;CN="Fairfield Medical Center":MAILTO:rishaw@fmchealth.org
END:VEVENT
BEGIN:VEVENT
DTSTART;TZID=America/New_York:20300128T180000
DTEND;TZID=America/New_York:20300128T190000
DTSTAMP:20260420T232530
CREATED:20250109T205125Z
LAST-MODIFIED:20251218T193632Z
UID:10000557-1895853600-1895857200@www.fmchealth.org
SUMMARY:Diabetes Support Group
DESCRIPTION:Diabetes Support Group. Free to attend. This group is open to community members and their families who are affected by diabetes. The group meets on the 4th Monday of each month from 6-7 p.m. in the conference rooms at River Valley Campus (Columbus Street entrance). A wide variety of topics on diabetes are covered. See the schedule on the reverse side for details or call 740-687-8492 for more information.
URL:https://www.fmchealth.org/event/diabetes-support-group/2030-01-28/
LOCATION:River Valley Campus\, 2384 N. Memorial Dr.\, Lancaster\, OH\, 43130\, United States
CATEGORIES:Diabetes,Support Groups
ATTACH;FMTTYPE=image/jpeg:https://www.fmchealth.org/app/uploads/2025/01/diabetes_girlwithnurse-scaled.jpg
END:VEVENT
BEGIN:VEVENT
DTSTART;TZID=America/New_York:20300220T164500
DTEND;TZID=America/New_York:20300220T174500
DTSTAMP:20260420T232530
CREATED:20260408T175637Z
LAST-MODIFIED:20260408T175637Z
UID:10000645-1897836300-1897839900@www.fmchealth.org
SUMMARY:Neuro Support Group
DESCRIPTION:The Neuro Support Group regularly hosts guest speakers to address topics of interest\, and also provides activities to promote group bonding and facilitate acceptance and healing. Please join us the 3rd Wednesday of each month\, unless a national holiday falls on that date.
URL:https://www.fmchealth.org/event/neuro-support-group/2030-02-20/
LOCATION:River Valley Campus\, 2384 N. Memorial Dr.\, Lancaster\, OH\, 43130\, United States
ORGANIZER;CN="Fairfield Medical Center":MAILTO:rishaw@fmchealth.org
END:VEVENT
BEGIN:VEVENT
DTSTART;TZID=America/New_York:20300225T180000
DTEND;TZID=America/New_York:20300225T190000
DTSTAMP:20260420T232530
CREATED:20250109T205125Z
LAST-MODIFIED:20251218T193632Z
UID:10000558-1898272800-1898276400@www.fmchealth.org
SUMMARY:Diabetes Support Group
DESCRIPTION:Diabetes Support Group. Free to attend. This group is open to community members and their families who are affected by diabetes. The group meets on the 4th Monday of each month from 6-7 p.m. in the conference rooms at River Valley Campus (Columbus Street entrance). A wide variety of topics on diabetes are covered. See the schedule on the reverse side for details or call 740-687-8492 for more information.
URL:https://www.fmchealth.org/event/diabetes-support-group/2030-02-25/
LOCATION:River Valley Campus\, 2384 N. Memorial Dr.\, Lancaster\, OH\, 43130\, United States
CATEGORIES:Diabetes,Support Groups
ATTACH;FMTTYPE=image/jpeg:https://www.fmchealth.org/app/uploads/2025/01/diabetes_girlwithnurse-scaled.jpg
END:VEVENT
BEGIN:VEVENT
DTSTART;TZID=America/New_York:20300320T164500
DTEND;TZID=America/New_York:20300320T174500
DTSTAMP:20260420T232530
CREATED:20260408T175637Z
LAST-MODIFIED:20260408T175637Z
UID:10000646-1900255500-1900259100@www.fmchealth.org
SUMMARY:Neuro Support Group
DESCRIPTION:The Neuro Support Group regularly hosts guest speakers to address topics of interest\, and also provides activities to promote group bonding and facilitate acceptance and healing. Please join us the 3rd Wednesday of each month\, unless a national holiday falls on that date.
URL:https://www.fmchealth.org/event/neuro-support-group/2030-03-20/
LOCATION:River Valley Campus\, 2384 N. Memorial Dr.\, Lancaster\, OH\, 43130\, United States
ORGANIZER;CN="Fairfield Medical Center":MAILTO:rishaw@fmchealth.org
END:VEVENT
BEGIN:VEVENT
DTSTART;TZID=America/New_York:20300325T180000
DTEND;TZID=America/New_York:20300325T190000
DTSTAMP:20260420T232530
CREATED:20250109T205125Z
LAST-MODIFIED:20251218T193632Z
UID:10000559-1900692000-1900695600@www.fmchealth.org
SUMMARY:Diabetes Support Group
DESCRIPTION:Diabetes Support Group. Free to attend. This group is open to community members and their families who are affected by diabetes. The group meets on the 4th Monday of each month from 6-7 p.m. in the conference rooms at River Valley Campus (Columbus Street entrance). A wide variety of topics on diabetes are covered. See the schedule on the reverse side for details or call 740-687-8492 for more information.
URL:https://www.fmchealth.org/event/diabetes-support-group/2030-03-25/
LOCATION:River Valley Campus\, 2384 N. Memorial Dr.\, Lancaster\, OH\, 43130\, United States
CATEGORIES:Diabetes,Support Groups
ATTACH;FMTTYPE=image/jpeg:https://www.fmchealth.org/app/uploads/2025/01/diabetes_girlwithnurse-scaled.jpg
END:VEVENT
BEGIN:VEVENT
DTSTART;TZID=America/New_York:20300417T164500
DTEND;TZID=America/New_York:20300417T174500
DTSTAMP:20260420T232530
CREATED:20260408T175637Z
LAST-MODIFIED:20260408T175637Z
UID:10000647-1902674700-1902678300@www.fmchealth.org
SUMMARY:Neuro Support Group
DESCRIPTION:The Neuro Support Group regularly hosts guest speakers to address topics of interest\, and also provides activities to promote group bonding and facilitate acceptance and healing. Please join us the 3rd Wednesday of each month\, unless a national holiday falls on that date.
URL:https://www.fmchealth.org/event/neuro-support-group/2030-04-17/
LOCATION:River Valley Campus\, 2384 N. Memorial Dr.\, Lancaster\, OH\, 43130\, United States
ORGANIZER;CN="Fairfield Medical Center":MAILTO:rishaw@fmchealth.org
END:VEVENT
BEGIN:VEVENT
DTSTART;TZID=America/New_York:20300422T180000
DTEND;TZID=America/New_York:20300422T190000
DTSTAMP:20260420T232530
CREATED:20250109T205125Z
LAST-MODIFIED:20251218T193632Z
UID:10000560-1903111200-1903114800@www.fmchealth.org
SUMMARY:Diabetes Support Group
DESCRIPTION:Diabetes Support Group. Free to attend. This group is open to community members and their families who are affected by diabetes. The group meets on the 4th Monday of each month from 6-7 p.m. in the conference rooms at River Valley Campus (Columbus Street entrance). A wide variety of topics on diabetes are covered. See the schedule on the reverse side for details or call 740-687-8492 for more information.
URL:https://www.fmchealth.org/event/diabetes-support-group/2030-04-22/
LOCATION:River Valley Campus\, 2384 N. Memorial Dr.\, Lancaster\, OH\, 43130\, United States
CATEGORIES:Diabetes,Support Groups
ATTACH;FMTTYPE=image/jpeg:https://www.fmchealth.org/app/uploads/2025/01/diabetes_girlwithnurse-scaled.jpg
END:VEVENT
BEGIN:VEVENT
DTSTART;TZID=America/New_York:20300515T164500
DTEND;TZID=America/New_York:20300515T174500
DTSTAMP:20260420T232531
CREATED:20260408T175637Z
LAST-MODIFIED:20260408T175637Z
UID:10000648-1905093900-1905097500@www.fmchealth.org
SUMMARY:Neuro Support Group
DESCRIPTION:The Neuro Support Group regularly hosts guest speakers to address topics of interest\, and also provides activities to promote group bonding and facilitate acceptance and healing. Please join us the 3rd Wednesday of each month\, unless a national holiday falls on that date.
URL:https://www.fmchealth.org/event/neuro-support-group/2030-05-15/
LOCATION:River Valley Campus\, 2384 N. Memorial Dr.\, Lancaster\, OH\, 43130\, United States
ORGANIZER;CN="Fairfield Medical Center":MAILTO:rishaw@fmchealth.org
END:VEVENT
BEGIN:VEVENT
DTSTART;TZID=America/New_York:20300527T180000
DTEND;TZID=America/New_York:20300527T190000
DTSTAMP:20260420T232531
CREATED:20250109T205125Z
LAST-MODIFIED:20251218T193632Z
UID:10000561-1906135200-1906138800@www.fmchealth.org
SUMMARY:Diabetes Support Group
DESCRIPTION:Diabetes Support Group. Free to attend. This group is open to community members and their families who are affected by diabetes. The group meets on the 4th Monday of each month from 6-7 p.m. in the conference rooms at River Valley Campus (Columbus Street entrance). A wide variety of topics on diabetes are covered. See the schedule on the reverse side for details or call 740-687-8492 for more information.
URL:https://www.fmchealth.org/event/diabetes-support-group/2030-05-27/
LOCATION:River Valley Campus\, 2384 N. Memorial Dr.\, Lancaster\, OH\, 43130\, United States
CATEGORIES:Diabetes,Support Groups
ATTACH;FMTTYPE=image/jpeg:https://www.fmchealth.org/app/uploads/2025/01/diabetes_girlwithnurse-scaled.jpg
END:VEVENT
BEGIN:VEVENT
DTSTART;TZID=America/New_York:20300619T164500
DTEND;TZID=America/New_York:20300619T174500
DTSTAMP:20260420T232531
CREATED:20260408T175637Z
LAST-MODIFIED:20260408T175637Z
UID:10000649-1908117900-1908121500@www.fmchealth.org
SUMMARY:Neuro Support Group
DESCRIPTION:The Neuro Support Group regularly hosts guest speakers to address topics of interest\, and also provides activities to promote group bonding and facilitate acceptance and healing. Please join us the 3rd Wednesday of each month\, unless a national holiday falls on that date.
URL:https://www.fmchealth.org/event/neuro-support-group/2030-06-19/
LOCATION:River Valley Campus\, 2384 N. Memorial Dr.\, Lancaster\, OH\, 43130\, United States
ORGANIZER;CN="Fairfield Medical Center":MAILTO:rishaw@fmchealth.org
END:VEVENT
BEGIN:VEVENT
DTSTART;TZID=America/New_York:20300624T180000
DTEND;TZID=America/New_York:20300624T190000
DTSTAMP:20260420T232531
CREATED:20250109T205125Z
LAST-MODIFIED:20251218T193632Z
UID:10000562-1908554400-1908558000@www.fmchealth.org
SUMMARY:Diabetes Support Group
DESCRIPTION:Diabetes Support Group. Free to attend. This group is open to community members and their families who are affected by diabetes. The group meets on the 4th Monday of each month from 6-7 p.m. in the conference rooms at River Valley Campus (Columbus Street entrance). A wide variety of topics on diabetes are covered. See the schedule on the reverse side for details or call 740-687-8492 for more information.
URL:https://www.fmchealth.org/event/diabetes-support-group/2030-06-24/
LOCATION:River Valley Campus\, 2384 N. Memorial Dr.\, Lancaster\, OH\, 43130\, United States
CATEGORIES:Diabetes,Support Groups
ATTACH;FMTTYPE=image/jpeg:https://www.fmchealth.org/app/uploads/2025/01/diabetes_girlwithnurse-scaled.jpg
END:VEVENT
BEGIN:VEVENT
DTSTART;TZID=America/New_York:20300717T164500
DTEND;TZID=America/New_York:20300717T174500
DTSTAMP:20260420T232531
CREATED:20260408T175637Z
LAST-MODIFIED:20260408T175637Z
UID:10000650-1910537100-1910540700@www.fmchealth.org
SUMMARY:Neuro Support Group
DESCRIPTION:The Neuro Support Group regularly hosts guest speakers to address topics of interest\, and also provides activities to promote group bonding and facilitate acceptance and healing. Please join us the 3rd Wednesday of each month\, unless a national holiday falls on that date.
URL:https://www.fmchealth.org/event/neuro-support-group/2030-07-17/
LOCATION:River Valley Campus\, 2384 N. Memorial Dr.\, Lancaster\, OH\, 43130\, United States
ORGANIZER;CN="Fairfield Medical Center":MAILTO:rishaw@fmchealth.org
END:VEVENT
BEGIN:VEVENT
DTSTART;TZID=America/New_York:20300722T180000
DTEND;TZID=America/New_York:20300722T190000
DTSTAMP:20260420T232531
CREATED:20250109T205125Z
LAST-MODIFIED:20251218T193632Z
UID:10000563-1910973600-1910977200@www.fmchealth.org
SUMMARY:Diabetes Support Group
DESCRIPTION:Diabetes Support Group. Free to attend. This group is open to community members and their families who are affected by diabetes. The group meets on the 4th Monday of each month from 6-7 p.m. in the conference rooms at River Valley Campus (Columbus Street entrance). A wide variety of topics on diabetes are covered. See the schedule on the reverse side for details or call 740-687-8492 for more information.
URL:https://www.fmchealth.org/event/diabetes-support-group/2030-07-22/
LOCATION:River Valley Campus\, 2384 N. Memorial Dr.\, Lancaster\, OH\, 43130\, United States
CATEGORIES:Diabetes,Support Groups
ATTACH;FMTTYPE=image/jpeg:https://www.fmchealth.org/app/uploads/2025/01/diabetes_girlwithnurse-scaled.jpg
END:VEVENT
BEGIN:VEVENT
DTSTART;TZID=America/New_York:20300821T164500
DTEND;TZID=America/New_York:20300821T174500
DTSTAMP:20260420T232531
CREATED:20260408T175637Z
LAST-MODIFIED:20260408T175637Z
UID:10000651-1913561100-1913564700@www.fmchealth.org
SUMMARY:Neuro Support Group
DESCRIPTION:The Neuro Support Group regularly hosts guest speakers to address topics of interest\, and also provides activities to promote group bonding and facilitate acceptance and healing. Please join us the 3rd Wednesday of each month\, unless a national holiday falls on that date.
URL:https://www.fmchealth.org/event/neuro-support-group/2030-08-21/
LOCATION:River Valley Campus\, 2384 N. Memorial Dr.\, Lancaster\, OH\, 43130\, United States
ORGANIZER;CN="Fairfield Medical Center":MAILTO:rishaw@fmchealth.org
END:VEVENT
BEGIN:VEVENT
DTSTART;TZID=America/New_York:20300826T180000
DTEND;TZID=America/New_York:20300826T190000
DTSTAMP:20260420T232531
CREATED:20250109T205125Z
LAST-MODIFIED:20251218T193632Z
UID:10000564-1913997600-1914001200@www.fmchealth.org
SUMMARY:Diabetes Support Group
DESCRIPTION:Diabetes Support Group. Free to attend. This group is open to community members and their families who are affected by diabetes. The group meets on the 4th Monday of each month from 6-7 p.m. in the conference rooms at River Valley Campus (Columbus Street entrance). A wide variety of topics on diabetes are covered. See the schedule on the reverse side for details or call 740-687-8492 for more information.
URL:https://www.fmchealth.org/event/diabetes-support-group/2030-08-26/
LOCATION:River Valley Campus\, 2384 N. Memorial Dr.\, Lancaster\, OH\, 43130\, United States
CATEGORIES:Diabetes,Support Groups
ATTACH;FMTTYPE=image/jpeg:https://www.fmchealth.org/app/uploads/2025/01/diabetes_girlwithnurse-scaled.jpg
END:VEVENT
BEGIN:VEVENT
DTSTART;TZID=America/New_York:20300918T164500
DTEND;TZID=America/New_York:20300918T174500
DTSTAMP:20260420T232531
CREATED:20260408T175637Z
LAST-MODIFIED:20260408T175637Z
UID:10000652-1915980300-1915983900@www.fmchealth.org
SUMMARY:Neuro Support Group
DESCRIPTION:The Neuro Support Group regularly hosts guest speakers to address topics of interest\, and also provides activities to promote group bonding and facilitate acceptance and healing. Please join us the 3rd Wednesday of each month\, unless a national holiday falls on that date.
URL:https://www.fmchealth.org/event/neuro-support-group/2030-09-18/
LOCATION:River Valley Campus\, 2384 N. Memorial Dr.\, Lancaster\, OH\, 43130\, United States
ORGANIZER;CN="Fairfield Medical Center":MAILTO:rishaw@fmchealth.org
END:VEVENT
END:VCALENDAR